BEGIN:VCALENDAR
VERSION:2.0
PRODID:spatie/icalendar-generator
DESCRIPTION:Evenementen van Le Roy Lewenborg
X-WR-CALDESC:Evenementen van Le Roy Lewenborg
REFRESH-INTERVAL;VALUE=DURATION:PT1440M
X-PUBLISHED-TTL:PT1440M
BEGIN:VTIMEZONE
TZID:Europe/Amsterdam
BEGIN:DAYLIGHT
DTSTART:20250330T020000Z
TZOFFSETFROM:+0100
TZOFFSETTO:+0200
END:DAYLIGHT
BEGIN:STANDARD
DTSTART:20251026T030000Z
TZOFFSETFROM:+0200
TZOFFSETTO:+0100
END:STANDARD
END:VTIMEZONE
BEGIN:VTIMEZONE
TZID:UTC
BEGIN:STANDARD
DTSTART:20250725T082936Z
TZOFFSETFROM:+0000
TZOFFSETTO:+0000
END:STANDARD
END:VTIMEZONE
BEGIN:VEVENT
UID:787-239
DTSTAMP:20260421T082936Z
SUMMARY:Bouw Je Eigen Kamp
LOCATION:
ORGANIZER;CN=federicovarone:MAILTO:federicovarone0@gmail.com
DTSTART;TZID=Europe/Amsterdam:20250801T100000
DTEND;TZID=Europe/Amsterdam:20250801T160000
X-ALT-DESC;FMTTYPE=TEXT/HTML:Teams bouwen een eigen kamp van natuurlijke ma
 terialen: hutten\, vlaggen\, poorten\, zitplekken. Afsluiting met presenta
 tie en juryprijs. Onderdeel van de Onvergetelijke Zomer activiteiten. Aanm
 elden kan via www.check050.nl
CATEGORIES:
URL;VALUE=URI:https://leroy-groningen.nl/?mc_id=787&#038;vcal=787
METHOD:PUBLISH
END:VEVENT
END:VCALENDAR