BEGIN:VCALENDAR
VERSION:2.0
PRODID:spatie/icalendar-generator
DESCRIPTION:Evenementen van Le Roy Lewenborg
X-WR-CALDESC:Evenementen van Le Roy Lewenborg
REFRESH-INTERVAL;VALUE=DURATION:PT1440M
X-PUBLISHED-TTL:PT1440M
BEGIN:VTIMEZONE
TZID:Europe/Amsterdam
BEGIN:STANDARD
DTSTART:20241027T030000Z
TZOFFSETFROM:+0200
TZOFFSETTO:+0100
END:STANDARD
BEGIN:DAYLIGHT
DTSTART:20250330T020000Z
TZOFFSETFROM:+0100
TZOFFSETTO:+0200
END:DAYLIGHT
END:VTIMEZONE
BEGIN:VTIMEZONE
TZID:UTC
BEGIN:STANDARD
DTSTART:20250727T091936Z
TZOFFSETFROM:+0000
TZOFFSETTO:+0000
END:STANDARD
END:VTIMEZONE
BEGIN:VEVENT
UID:737-195
DTSTAMP:20260423T091936Z
SUMMARY:wilde remedies
LOCATION:Leroy Huis
ORGANIZER;CN=Stichting Leroy:MAILTO:stichting@leroy-groningen.nl
DTSTART;TZID=Europe/Amsterdam:20250416T123000
DTEND;TZID=Europe/Amsterdam:20250416T163000
X-ALT-DESC;FMTTYPE=TEXT/HTML:les 4
CATEGORIES:educatie
URL;VALUE=URI:https://leroy-groningen.nl/?mc_id=737&#038;vcal=737
METHOD:PUBLISH
END:VEVENT
END:VCALENDAR