BEGIN:VCALENDAR
VERSION:2.0
PRODID:spatie/icalendar-generator
DESCRIPTION:Evenementen van Le Roy Lewenborg
X-WR-CALDESC:Evenementen van Le Roy Lewenborg
REFRESH-INTERVAL;VALUE=DURATION:PT1440M
X-PUBLISHED-TTL:PT1440M
BEGIN:VTIMEZONE
TZID:Europe/Amsterdam
BEGIN:STANDARD
DTSTART:20251026T030000Z
TZOFFSETFROM:+0200
TZOFFSETTO:+0100
END:STANDARD
BEGIN:DAYLIGHT
DTSTART:20260329T020000Z
TZOFFSETFROM:+0100
TZOFFSETTO:+0200
END:DAYLIGHT
BEGIN:STANDARD
DTSTART:20261025T030000Z
TZOFFSETFROM:+0200
TZOFFSETTO:+0100
END:STANDARD
END:VTIMEZONE
BEGIN:VTIMEZONE
TZID:UTC
BEGIN:STANDARD
DTSTART:20250727T145049Z
TZOFFSETFROM:+0000
TZOFFSETTO:+0000
END:STANDARD
END:VTIMEZONE
BEGIN:VEVENT
UID:1113-305
DTSTAMP:20260423T145049Z
SUMMARY:Boogschieten
LOCATION:Zandbank midscheeps  groningen
ORGANIZER;CN=federicovarone:MAILTO:federicovarone0@gmail.com
DTSTART;TZID=Europe/Amsterdam:20260620T093000
DTEND;TZID=Europe/Amsterdam:20260620T120000
X-ALT-DESC;FMTTYPE=TEXT/HTML:Boogschieten is een sport voor jong en oud\, v
 an 8 tot 88 jaar! Of je nu een beginner bent of al ervaring hebt\, bij ons
  krijg je de kans om de sport te ontdekken en jezelf te verbeteren. Onze g
 ratis lessen bieden een unieke kans om kennis te maken met boogschieten in
  een ontspannen en&amp;hellip\;
CATEGORIES:
URL;VALUE=URI:https://leroy-groningen.nl/?mc_id=1113&#038;vcal=1113
METHOD:PUBLISH
END:VEVENT
END:VCALENDAR