BEGIN:VCALENDAR
VERSION:2.0
PRODID:spatie/icalendar-generator
DESCRIPTION:Evenementen van Le Roy Lewenborg
X-WR-CALDESC:Evenementen van Le Roy Lewenborg
REFRESH-INTERVAL;VALUE=DURATION:PT1440M
X-PUBLISHED-TTL:PT1440M
BEGIN:VTIMEZONE
TZID:Europe/Amsterdam
BEGIN:STANDARD
DTSTART:20251026T030000Z
TZOFFSETFROM:+0200
TZOFFSETTO:+0100
END:STANDARD
BEGIN:DAYLIGHT
DTSTART:20260329T020000Z
TZOFFSETFROM:+0100
TZOFFSETTO:+0200
END:DAYLIGHT
BEGIN:STANDARD
DTSTART:20261025T030000Z
TZOFFSETFROM:+0200
TZOFFSETTO:+0100
END:STANDARD
END:VTIMEZONE
BEGIN:VTIMEZONE
TZID:UTC
BEGIN:STANDARD
DTSTART:20250725T081947Z
TZOFFSETFROM:+0000
TZOFFSETTO:+0000
END:STANDARD
END:VTIMEZONE
BEGIN:VEVENT
UID:1122-315
DTSTAMP:20260421T081947Z
SUMMARY:Samen stapelen in de ecokathedraal
LOCATION:
ORGANIZER;CN=federicovarone:MAILTO:federicovarone0@gmail.com
DTSTART;TZID=Europe/Amsterdam:20260502T090000
DTEND;TZID=Europe/Amsterdam:20260502T110000
X-ALT-DESC;FMTTYPE=TEXT/HTML:Zaterdag 2 mei: samen stapelen in de ecokathed
 raal Op zaterdag 2 mei gaan we weer aan de slag in de ecokathedraal. Samen
  met geocachers verzamelen we stenen en gaan we stapelen. We starten om 09
 :00 uur en werken ongeveer 1\,5 uur. Daarna sluiten we af met koffie bij h
 et LeRoy-huis. Lijkt het je leuk om&amp;hellip\;
CATEGORIES:
URL;VALUE=URI:https://leroy-groningen.nl/?cid=mc-948a6a8e8cd15db324902317a6
 30b853&#038;mc_id=1122&#038;vcal=1122
METHOD:PUBLISH
END:VEVENT
END:VCALENDAR