BEGIN:VCALENDAR
VERSION:2.0
PRODID:spatie/icalendar-generator
DESCRIPTION:Evenementen van Le Roy Lewenborg
X-WR-CALDESC:Evenementen van Le Roy Lewenborg
REFRESH-INTERVAL;VALUE=DURATION:PT1440M
X-PUBLISHED-TTL:PT1440M
BEGIN:VTIMEZONE
TZID:Europe/Amsterdam
BEGIN:STANDARD
DTSTART:20251026T030000Z
TZOFFSETFROM:+0200
TZOFFSETTO:+0100
END:STANDARD
BEGIN:DAYLIGHT
DTSTART:20260329T020000Z
TZOFFSETFROM:+0100
TZOFFSETTO:+0200
END:DAYLIGHT
END:VTIMEZONE
BEGIN:VTIMEZONE
TZID:UTC
BEGIN:STANDARD
DTSTART:20250725T085321Z
TZOFFSETFROM:+0000
TZOFFSETTO:+0000
END:STANDARD
END:VTIMEZONE
BEGIN:VEVENT
UID:1110-302
DTSTAMP:20260421T085321Z
SUMMARY:Boogschieten
LOCATION:Zandbank midscheeps  groningen
ORGANIZER;CN=federicovarone:MAILTO:federicovarone0@gmail.com
DTSTART;TZID=Europe/Amsterdam:20260418T093000
DTEND;TZID=Europe/Amsterdam:20260418T120000
X-ALT-DESC;FMTTYPE=TEXT/HTML:Boogschieten is een sport voor jong en oud\, v
 an 8 tot 88 jaar! Of je nu een beginner bent of al ervaring hebt\, bij ons
  krijg je de kans om de sport te ontdekken en jezelf te verbeteren. Onze g
 ratis lessen bieden een unieke kans om kennis te maken met boogschieten in
  een ontspannen en&amp;hellip\;
CATEGORIES:
URL;VALUE=URI:https://leroy-groningen.nl/?cid=mc-948a6a8e8cd15db324902317a6
 30b853&#038;mc_id=1110&#038;vcal=1110
METHOD:PUBLISH
END:VEVENT
END:VCALENDAR